BEGIN:VCALENDAR
VERSION:2.0
PRODID:-//Events Shifting Retail - ECPv6.6.4.2//NONSGML v1.0//EN
CALSCALE:GREGORIAN
METHOD:PUBLISH
X-WR-CALNAME:Events Shifting Retail
X-ORIGINAL-URL:https://events.shiftingretail.com.au
X-WR-CALDESC:Events for Events Shifting Retail
REFRESH-INTERVAL;VALUE=DURATION:PT1H
X-Robots-Tag:noindex
X-PUBLISHED-TTL:PT1H
BEGIN:VTIMEZONE
TZID:Australia/Adelaide
BEGIN:STANDARD
TZOFFSETFROM:+1030
TZOFFSETTO:+0930
TZNAME:ACST
DTSTART:20210403T163000
END:STANDARD
BEGIN:DAYLIGHT
TZOFFSETFROM:+0930
TZOFFSETTO:+1030
TZNAME:ACDT
DTSTART:20211002T163000
END:DAYLIGHT
BEGIN:STANDARD
TZOFFSETFROM:+1030
TZOFFSETTO:+0930
TZNAME:ACST
DTSTART:20220402T163000
END:STANDARD
BEGIN:DAYLIGHT
TZOFFSETFROM:+0930
TZOFFSETTO:+1030
TZNAME:ACDT
DTSTART:20221001T163000
END:DAYLIGHT
BEGIN:STANDARD
TZOFFSETFROM:+1030
TZOFFSETTO:+0930
TZNAME:ACST
DTSTART:20230401T163000
END:STANDARD
BEGIN:DAYLIGHT
TZOFFSETFROM:+0930
TZOFFSETTO:+1030
TZNAME:ACDT
DTSTART:20230930T163000
END:DAYLIGHT
BEGIN:STANDARD
TZOFFSETFROM:+1030
TZOFFSETTO:+0930
TZNAME:ACST
DTSTART:20240406T163000
END:STANDARD
BEGIN:DAYLIGHT
TZOFFSETFROM:+0930
TZOFFSETTO:+1030
TZNAME:ACDT
DTSTART:20241005T163000
END:DAYLIGHT
BEGIN:STANDARD
TZOFFSETFROM:+1030
TZOFFSETTO:+0930
TZNAME:ACST
DTSTART:20250405T163000
END:STANDARD
BEGIN:DAYLIGHT
TZOFFSETFROM:+0930
TZOFFSETTO:+1030
TZNAME:ACDT
DTSTART:20251004T163000
END:DAYLIGHT
TZID:Pacific/Auckland
BEGIN:STANDARD
TZOFFSETFROM:+1300
TZOFFSETTO:+1200
TZNAME:NZST
DTSTART:20240406T140000
END:STANDARD
BEGIN:DAYLIGHT
TZOFFSETFROM:+1200
TZOFFSETTO:+1300
TZNAME:NZDT
DTSTART:20240928T140000
END:DAYLIGHT
TZID:Australia/Sydney
BEGIN:STANDARD
TZOFFSETFROM:+1100
TZOFFSETTO:+1000
TZNAME:AEST
DTSTART:20240406T160000
END:STANDARD
BEGIN:DAYLIGHT
TZOFFSETFROM:+1000
TZOFFSETTO:+1100
TZNAME:AEDT
DTSTART:20241005T160000
END:DAYLIGHT
TZID:Australia/Brisbane
BEGIN:STANDARD
TZOFFSETFROM:+1000
TZOFFSETTO:+1000
TZNAME:AEST
DTSTART:20220101T000000
END:STANDARD
TZID:Australia/Melbourne
BEGIN:STANDARD
TZOFFSETFROM:+1100
TZOFFSETTO:+1000
TZNAME:AEST
DTSTART:20240406T160000
END:STANDARD
BEGIN:DAYLIGHT
TZOFFSETFROM:+1000
TZOFFSETTO:+1100
TZNAME:AEDT
DTSTART:20241005T160000
END:DAYLIGHT
END:VTIMEZONE
BEGIN:VEVENT
DTSTART;VALUE=DATE:20250321
DTEND;VALUE=DATE:20250323
DTSTAMP:20260420T022615
CREATED:20240314T062638Z
LAST-MODIFIED:20240314T063503Z
UID:2521-1742515200-1742687999@events.shiftingretail.com.au
SUMMARY:MODERE SRC 2025
DESCRIPTION:  \n \n   Brisbane\n   MARCH 21 – 22\nSRC Brings together Social Marketers from across Australia and New Zealand to hear from inspirational speakers\, learn about our brand\, products and what’s coming for the year ahead. \nPlus\, you get the invaluable opportunity to connect with your team. \nREGISTER YOUR TICKETS NOW
URL:https://events.shiftingretail.com.au/event/src25/
LOCATION:NV
CATEGORIES:SRC
ORGANIZER;CN="Modere":MAILTO:events@modere.com.au
END:VEVENT
BEGIN:VEVENT
DTSTART;VALUE=DATE:20241025
DTEND;VALUE=DATE:20241027
DTSTAMP:20260420T022615
CREATED:20240626T075528Z
LAST-MODIFIED:20240626T075915Z
UID:2552-1729814400-1729987199@events.shiftingretail.com.au
SUMMARY:MODERE SPRING SUMMIT 2024
DESCRIPTION:
URL:https://events.shiftingretail.com.au/event/spring-summit24/
LOCATION:NV
CATEGORIES:Event
ORGANIZER;CN="Modere":MAILTO:events@modere.com.au
END:VEVENT
BEGIN:VEVENT
DTSTART;TZID=Pacific/Auckland:20240727T140000
DTEND;TZID=Pacific/Auckland:20240727T163000
DTSTAMP:20260420T022615
CREATED:20240603T033027Z
LAST-MODIFIED:20240611T071236Z
UID:2538-1722088800-1722097800@events.shiftingretail.com.au
SUMMARY:Modere Roadshow 2024 - Auckland
DESCRIPTION:
URL:https://events.shiftingretail.com.au/event/roadshow-auckland/
LOCATION:Movenpick Hotel\, New Zealand
CATEGORIES:Event
ORGANIZER;CN="Modere":MAILTO:events@modere.com.au
END:VEVENT
BEGIN:VEVENT
DTSTART;TZID=Australia/Sydney:20240725T183000
DTEND;TZID=Australia/Sydney:20240725T210000
DTSTAMP:20260420T022615
CREATED:20240603T032825Z
LAST-MODIFIED:20240612T062032Z
UID:2536-1721932200-1721941200@events.shiftingretail.com.au
SUMMARY:Modere Roadshow 2024 - Sydney
DESCRIPTION:
URL:https://events.shiftingretail.com.au/event/roadshow-sydney/
LOCATION:The Fiddler
CATEGORIES:Event
ORGANIZER;CN="Modere":MAILTO:events@modere.com.au
END:VEVENT
BEGIN:VEVENT
DTSTART;TZID=Australia/Brisbane:20240723T183000
DTEND;TZID=Australia/Brisbane:20240723T210000
DTSTAMP:20260420T022615
CREATED:20240603T032725Z
LAST-MODIFIED:20240612T062056Z
UID:2534-1721759400-1721768400@events.shiftingretail.com.au
SUMMARY:Modere Roadshow 2024 - Gold Coast
DESCRIPTION:
URL:https://events.shiftingretail.com.au/event/roadshow-gc/
LOCATION:Gold Coast Tavern\, Australia
CATEGORIES:Event
ORGANIZER;CN="Modere":MAILTO:events@modere.com.au
END:VEVENT
BEGIN:VEVENT
DTSTART;TZID=Australia/Melbourne:20240721T140000
DTEND;TZID=Australia/Melbourne:20240721T163000
DTSTAMP:20260420T022615
CREATED:20240603T032515Z
LAST-MODIFIED:20240611T071525Z
UID:2532-1721570400-1721579400@events.shiftingretail.com.au
SUMMARY:Modere Roadshow 2024 - Melbourne
DESCRIPTION:
URL:https://events.shiftingretail.com.au/event/roadshow-melbourne/
LOCATION:River’s Edge\, Australia
CATEGORIES:Event
ORGANIZER;CN="Modere":MAILTO:events@modere.com.au
END:VEVENT
BEGIN:VEVENT
DTSTART;TZID=Australia/Adelaide:20240719T183000
DTEND;TZID=Australia/Adelaide:20240719T210000
DTSTAMP:20260420T022615
CREATED:20240603T015859Z
LAST-MODIFIED:20240612T062125Z
UID:2531-1721413800-1721422800@events.shiftingretail.com.au
SUMMARY:Modere Roadshow 2024 - Fremantle
DESCRIPTION:
URL:https://events.shiftingretail.com.au/event/roadshow-fremantle/
LOCATION:Fremantle Sailing Club\, Australia
CATEGORIES:Event
ORGANIZER;CN="Modere":MAILTO:events@modere.com.au
END:VEVENT
BEGIN:VEVENT
DTSTART;TZID=Australia/Adelaide:20240717T183000
DTEND;TZID=Australia/Adelaide:20240717T210000
DTSTAMP:20260420T022615
CREATED:20240611T071714Z
LAST-MODIFIED:20240612T062145Z
UID:2543-1721241000-1721250000@events.shiftingretail.com.au
SUMMARY:Modere Roadshow 2024 - Adelaide
DESCRIPTION:
URL:https://events.shiftingretail.com.au/event/roadshow-adelaide/
LOCATION:Modere
CATEGORIES:Event
ORGANIZER;CN="Modere":MAILTO:events@modere.com.au
END:VEVENT
BEGIN:VEVENT
DTSTART;TZID=Australia/Adelaide:20240315T080000
DTEND;TZID=Australia/Adelaide:20240316T230000
DTSTAMP:20260420T022615
CREATED:20230529T071954Z
LAST-MODIFIED:20240211T235917Z
UID:2452-1710489600-1710630000@events.shiftingretail.com.au
SUMMARY:MODERE SRC 2024
DESCRIPTION:   SYDNEY\n   MARCH 15 – 16\nSRC Brings together Social Marketers from across Australia and New Zealand to hear from inspirational speakers\, learn about our brand\, products and what’s coming for the year ahead. \nPlus\, you get the invaluable opportunity to connect with your team. \nREGISTER YOUR TICKETS NOW
URL:https://events.shiftingretail.com.au/event/src24/
LOCATION:NV
CATEGORIES:SRC
ORGANIZER;CN="Modere":MAILTO:events@modere.com.au
END:VEVENT
BEGIN:VEVENT
DTSTART;VALUE=DATE:20231020
DTEND;VALUE=DATE:20231022
DTSTAMP:20260420T022615
CREATED:20230621T070355Z
LAST-MODIFIED:20230719T061752Z
UID:2489-1697760000-1697932799@events.shiftingretail.com.au
SUMMARY:MODERE SPRING SUMMIT 2023
DESCRIPTION:  \nJoin us on October 20-21 for our first ever Spring Social Marketing Summit as we discuss powerful new business tools\, learn from our top leaders\, and so much more! \nHere’s some of what you can expect: \n\nTechniques used by leaders to help you expand your influence.\nHow to share products and the opportunity in the most meaningful and authentic way. Master the steps of duplication in your business.\nDiscover the tools you need to work through fears\, challenges\, and pitfalls.\nDefine clear and actionable steps to help you achieve your yearly goals.\n\nThis year\, we have two ticket types available! \nOption 1. In-person – Attendance to Saturday only and by purchasing this one\, you will have the full cost the Summit ticket deducted from their 2024 SRC ticket. \nOption 2. Virtual – Saturday will be live streamed via our Summit Facebook Group. Once you register\, you will be sent a link to the Facebook page. \n  \nLOCATION \nThe 2023 Spring Social Marketing Summit will be held at the Crowne Plaza Adelaide located in the East End just off Rundle Street in the heart of Adelaide’s CBD. \nAddress: 27 Frome Street\, Adelaide\, 5000 \nPhone: 08 7077 2222 \nEmail: rec.adlad@ihg.com
URL:https://events.shiftingretail.com.au/event/spring-summit23/
LOCATION:Crowne Plaza Adelaide\, 27 Frome Street\, ADELAIDE\, SA\, 5000\, Australia
CATEGORIES:Event
ORGANIZER;CN="Modere":MAILTO:events@modere.com.au
END:VEVENT
BEGIN:VEVENT
DTSTART;VALUE=DATE:20230331
DTEND;VALUE=DATE:20230402
DTSTAMP:20260420T022615
CREATED:20220923T071729Z
LAST-MODIFIED:20220923T072956Z
UID:2413-1680220800-1680393599@events.shiftingretail.com.au
SUMMARY:MODERE SRC 2023
DESCRIPTION:SRC brings together Social Marketers from across Australia and New Zealand to hear from inspirational speakers\, learn about our brand\, products and what’s coming for the year ahead.
URL:https://events.shiftingretail.com.au/event/src23/
LOCATION:NV
CATEGORIES:Event,SRC
ORGANIZER;CN="Modere":MAILTO:events@modere.com.au
END:VEVENT
BEGIN:VEVENT
DTSTART;TZID=Australia/Adelaide:20221111T153000
DTEND;TZID=Australia/Adelaide:20221111T183000
DTSTAMP:20260420T022615
CREATED:20221018T062248Z
LAST-MODIFIED:20221018T062346Z
UID:2425-1668180600-1668191400@events.shiftingretail.com.au
SUMMARY:LIVE CLEAN LIFE ADELAIDE
DESCRIPTION:Join us for the next edition of Live Clean Life as we head to Adelaide with some of our leading Social Marketers and you’re invited. This is your chance to connect and learn along the way. \n 
URL:https://events.shiftingretail.com.au/event/live-clean-life-sa/
LOCATION:NV
CATEGORIES:Event
ORGANIZER;CN="Modere":MAILTO:events@modere.com.au
END:VEVENT
BEGIN:VEVENT
DTSTART;VALUE=DATE:20221111
DTEND;VALUE=DATE:20221113
DTSTAMP:20260420T022615
CREATED:20221006T041556Z
LAST-MODIFIED:20221028T011348Z
UID:2426-1668124800-1668297599@events.shiftingretail.com.au
SUMMARY:2022 LEADERSHIP SUMMIT
DESCRIPTION:Go Forth\, and Conquer \nPlease RSVP! \nIf you have any questions\, please email events@modere.com.au
URL:https://events.shiftingretail.com.au/event/2022-leadership-summit/
LOCATION:NV
CATEGORIES:Event
ORGANIZER;CN="Modere":MAILTO:events@modere.com.au
END:VEVENT
BEGIN:VEVENT
DTSTART;VALUE=DATE:20221006
DTEND;VALUE=DATE:20221007
DTSTAMP:20260420T022615
CREATED:20220913T035914Z
LAST-MODIFIED:20221006T040427Z
UID:2392-1665014400-1665100799@events.shiftingretail.com.au
SUMMARY:LIVE CLEAN LIFE AUCKLAND
DESCRIPTION:Join us for the next edition of Live Clean Life as we head to Auckland with some of our leading Social Marketers and you’re invited. This is your chance to connect and learn along the way.
URL:https://events.shiftingretail.com.au/event/live-clean-life-auckland/
LOCATION:NV
CATEGORIES:Event
ORGANIZER;CN="Modere":MAILTO:events@modere.com.au
END:VEVENT
BEGIN:VEVENT
DTSTART;VALUE=DATE:20220910
DTEND;VALUE=DATE:20220911
DTSTAMP:20260420T022615
CREATED:20220818T060650Z
LAST-MODIFIED:20220819T010411Z
UID:2378-1662768000-1662854399@events.shiftingretail.com.au
SUMMARY:LIVE CLEAN LIFE PERTH
DESCRIPTION:Join us for the next edition of Live Clean Life as we head to Perth with some of our leading Social Marketers and you’re invited. This is your chance to connect and learn along the way.
URL:https://events.shiftingretail.com.au/event/live-clean-life-perth/
LOCATION:NV
CATEGORIES:Event
ORGANIZER;CN="Modere":MAILTO:events@modere.com.au
END:VEVENT
BEGIN:VEVENT
DTSTART;VALUE=DATE:20220721
DTEND;VALUE=DATE:20220722
DTSTAMP:20260420T022615
CREATED:20220617T002809Z
LAST-MODIFIED:20220706T060209Z
UID:2363-1658361600-1658447999@events.shiftingretail.com.au
SUMMARY:LIVE CLEAN LIFE GOLD COAST
DESCRIPTION:Join us for the next edition of Live Clean Life as we head to Gold Coast with some of our leading Social Marketers and you’re invited. This is your chance to connect and learn along the way.
URL:https://events.shiftingretail.com.au/event/live-clean-life-gc/
LOCATION:NV
CATEGORIES:Event
ORGANIZER;CN="Modere":MAILTO:events@modere.com.au
END:VEVENT
BEGIN:VEVENT
DTSTART;VALUE=DATE:20220616
DTEND;VALUE=DATE:20220617
DTSTAMP:20260420T022615
CREATED:20220518T053410Z
LAST-MODIFIED:20220518T053625Z
UID:2347-1655337600-1655423999@events.shiftingretail.com.au
SUMMARY:LIVE CLEAN LIFE MELBOURNE
DESCRIPTION:Join us for the next edition of Live Clean Life as we head to Melbourne with some of our leading Social Marketers and you’re invited. This is your chance to connect and learn along the way.
URL:https://events.shiftingretail.com.au/event/live-clean-life-melbourne/
LOCATION:NV
CATEGORIES:Event
ORGANIZER;CN="Modere":MAILTO:events@modere.com.au
END:VEVENT
BEGIN:VEVENT
DTSTART;VALUE=DATE:20220512
DTEND;VALUE=DATE:20220513
DTSTAMP:20260420T022615
CREATED:20220419T044827Z
LAST-MODIFIED:20220419T044827Z
UID:2335-1652313600-1652399999@events.shiftingretail.com.au
SUMMARY:LIVE CLEAN LIFE SYDNEY
DESCRIPTION:We’re setting our sights high – meet us at the Skye Suites. We’re heading to Parramatta with some of our leading Social Marketers and you’re invited. This is your chance to connect with our Sydney siders and learn along the way.
URL:https://events.shiftingretail.com.au/event/live-clean-life-sydney/
LOCATION:SKYE SUITES PARRAMATTA\, 30 Hunter Street\, Parramatta\, Sydney\, 2150\, Australia
CATEGORIES:Event
ORGANIZER;CN="Modere":MAILTO:events@modere.com.au
END:VEVENT
BEGIN:VEVENT
DTSTART;TZID=Australia/Brisbane:20220319T183000
DTEND;TZID=Australia/Brisbane:20220319T230000
DTSTAMP:20260420T022615
CREATED:20210920T070417Z
LAST-MODIFIED:20220114T032838Z
UID:2289-1647714600-1647730800@events.shiftingretail.com.au
SUMMARY:SRC 2022 - Gala Dinner
DESCRIPTION:Its time to celebrate…. Join us as we announce the 2021 Leadership Award and acknowledge your amazing achievements over the last 12 months right in the middle of main street at MOVIE WORLD! \nMovie World is approximately 20mins from the Gold Coast Convention Centre so please make sure you plan your transport accordingly as we will be starting promptly at 6:30pm.
URL:https://events.shiftingretail.com.au/event/src-2022-gala/
LOCATION:Movie World\, Pacific Mwy\, Oxenford\, QLD\, 4210\, Australia
CATEGORIES:SRC
ORGANIZER;CN="Modere":MAILTO:events@modere.com.au
END:VEVENT
BEGIN:VEVENT
DTSTART;TZID=Australia/Brisbane:20220319T130000
DTEND;TZID=Australia/Brisbane:20220319T153000
DTSTAMP:20260420T022615
CREATED:20220113T232238Z
LAST-MODIFIED:20220113T232238Z
UID:2302-1647694800-1647703800@events.shiftingretail.com.au
SUMMARY:SRC 2022 - Saturday Afternoon General Session
DESCRIPTION:
URL:https://events.shiftingretail.com.au/event/src-2022-4/
LOCATION:Arena 1 – Gold Coast Convention and Exhibition Centre\, 2684-2690 Gold Coast Hwy\, Broadbeach\, QLD\, 4218\, Australia
CATEGORIES:SRC
ORGANIZER;CN="Modere":MAILTO:events@modere.com.au
END:VEVENT
BEGIN:VEVENT
DTSTART;TZID=Australia/Brisbane:20220319T090000
DTEND;TZID=Australia/Brisbane:20220319T120000
DTSTAMP:20260420T022615
CREATED:20220113T232056Z
LAST-MODIFIED:20220113T232056Z
UID:2301-1647680400-1647691200@events.shiftingretail.com.au
SUMMARY:SRC 2022 - Saturday Morning General Session
DESCRIPTION:
URL:https://events.shiftingretail.com.au/event/src-2022-3/
LOCATION:Arena 1 – Gold Coast Convention and Exhibition Centre\, 2684-2690 Gold Coast Hwy\, Broadbeach\, QLD\, 4218\, Australia
CATEGORIES:SRC
ORGANIZER;CN="Modere":MAILTO:events@modere.com.au
END:VEVENT
BEGIN:VEVENT
DTSTART;TZID=Australia/Brisbane:20220318T130000
DTEND;TZID=Australia/Brisbane:20220318T160000
DTSTAMP:20260420T022615
CREATED:20220113T231629Z
LAST-MODIFIED:20220114T032256Z
UID:2300-1647608400-1647619200@events.shiftingretail.com.au
SUMMARY:SRC 2022 - Friday Afternoon General Session
DESCRIPTION:We’re pumped for the future of Social Retail; we know you are too! Join as we hear from a few more of our Keynote speakers and we talk about the future\, live clean and leadership.
URL:https://events.shiftingretail.com.au/event/src-2022-2/
LOCATION:Arena 1 – Gold Coast Convention and Exhibition Centre\, 2684-2690 Gold Coast Hwy\, Broadbeach\, QLD\, 4218\, Australia
CATEGORIES:SRC
ORGANIZER;CN="Modere":MAILTO:events@modere.com.au
END:VEVENT
BEGIN:VEVENT
DTSTART;TZID=Australia/Brisbane:20220318T100000
DTEND;TZID=Australia/Brisbane:20220318T120000
DTSTAMP:20260420T022615
CREATED:20210920T070144Z
LAST-MODIFIED:20220114T032208Z
UID:2288-1647597600-1647604800@events.shiftingretail.com.au
SUMMARY:SRC 2022 - Friday Morning General Session
DESCRIPTION:Are you ready to ACCELERATE?\nThe 2022 Social Retail Conference is and this session is ready to pack a punch. This session will include a product launch like nothing you have seen before\, product education\, social media tips and international speakers.
URL:https://events.shiftingretail.com.au/event/src-2022-1/
LOCATION:Arena 1 – Gold Coast Convention and Exhibition Centre\, 2684-2690 Gold Coast Hwy\, Broadbeach\, QLD\, 4218\, Australia
CATEGORIES:SRC
ORGANIZER;CN="Modere":MAILTO:events@modere.com.au
END:VEVENT
BEGIN:VEVENT
DTSTART;VALUE=DATE:20211215
DTEND;VALUE=DATE:20211216
DTSTAMP:20260420T022615
CREATED:20210920T065838Z
LAST-MODIFIED:20210920T065838Z
UID:2286-1639526400-1639612799@events.shiftingretail.com.au
SUMMARY:Celebrate Zoom
DESCRIPTION:
URL:https://events.shiftingretail.com.au/event/dec-celebrate-zoom/
LOCATION:NV
CATEGORIES:Zoom
ORGANIZER;CN="Modere":MAILTO:events@modere.com.au
END:VEVENT
BEGIN:VEVENT
DTSTART;VALUE=DATE:20211203
DTEND;VALUE=DATE:20211204
DTSTAMP:20260420T022615
CREATED:20210920T065755Z
LAST-MODIFIED:20210920T065755Z
UID:2285-1638489600-1638575999@events.shiftingretail.com.au
SUMMARY:December Kick Off Zoom
DESCRIPTION:
URL:https://events.shiftingretail.com.au/event/dec-kick-off-zoom/
LOCATION:NV
CATEGORIES:Zoom
ORGANIZER;CN="Modere":MAILTO:events@modere.com.au
END:VEVENT
BEGIN:VEVENT
DTSTART;VALUE=DATE:20211117
DTEND;VALUE=DATE:20211118
DTSTAMP:20260420T022615
CREATED:20210920T065642Z
LAST-MODIFIED:20211013T000946Z
UID:2284-1637107200-1637193599@events.shiftingretail.com.au
SUMMARY:Elite Leadership Summit
DESCRIPTION:
URL:https://events.shiftingretail.com.au/event/elite-leadership-summit-2021/
LOCATION:NV
CATEGORIES:Zoom
ORGANIZER;CN="Modere":MAILTO:events@modere.com.au
END:VEVENT
BEGIN:VEVENT
DTSTART;VALUE=DATE:20211110
DTEND;VALUE=DATE:20211111
DTSTAMP:20260420T022615
CREATED:20210920T065458Z
LAST-MODIFIED:20211013T002240Z
UID:2283-1636502400-1636588799@events.shiftingretail.com.au
SUMMARY:Celebrate Zoom
DESCRIPTION:
URL:https://events.shiftingretail.com.au/event/nov-celebrate-zoom/
LOCATION:NV
CATEGORIES:Zoom
ORGANIZER;CN="Modere":MAILTO:events@modere.com.au
END:VEVENT
BEGIN:VEVENT
DTSTART;VALUE=DATE:20211103
DTEND;VALUE=DATE:20211104
DTSTAMP:20260420T022615
CREATED:20210920T065352Z
LAST-MODIFIED:20210920T065517Z
UID:2282-1635897600-1635983999@events.shiftingretail.com.au
SUMMARY:November Kick Off Zoom
DESCRIPTION:
URL:https://events.shiftingretail.com.au/event/nov-kick-off-zoom/
LOCATION:NV
CATEGORIES:Zoom
ORGANIZER;CN="Modere":MAILTO:events@modere.com.au
END:VEVENT
BEGIN:VEVENT
DTSTART;VALUE=DATE:20211013
DTEND;VALUE=DATE:20211014
DTSTAMP:20260420T022615
CREATED:20210920T065228Z
LAST-MODIFIED:20210920T065228Z
UID:2281-1634083200-1634169599@events.shiftingretail.com.au
SUMMARY:Celebrate Zoom
DESCRIPTION:
URL:https://events.shiftingretail.com.au/event/oct-celebrate-zoom/
LOCATION:NV
CATEGORIES:Zoom
ORGANIZER;CN="Modere":MAILTO:events@modere.com.au
END:VEVENT
BEGIN:VEVENT
DTSTART;VALUE=DATE:20211005
DTEND;VALUE=DATE:20211006
DTSTAMP:20260420T022615
CREATED:20210920T065058Z
LAST-MODIFIED:20210920T065058Z
UID:2280-1633392000-1633478399@events.shiftingretail.com.au
SUMMARY:October Kick Off Zoom
DESCRIPTION:
URL:https://events.shiftingretail.com.au/event/oct-kick-off-zoom/
LOCATION:NV
CATEGORIES:Zoom
ORGANIZER;CN="Modere":MAILTO:events@modere.com.au
END:VEVENT
END:VCALENDAR